BEGIN:VCALENDAR
VERSION:2.0
PRODID:-//ERCST - ECPv6.15.20//NONSGML v1.0//EN
CALSCALE:GREGORIAN
METHOD:PUBLISH
X-WR-CALNAME:ERCST
X-ORIGINAL-URL:https://ercst.org
X-WR-CALDESC:Events for ERCST
REFRESH-INTERVAL;VALUE=DURATION:PT1H
X-Robots-Tag:noindex
X-PUBLISHED-TTL:PT1H
BEGIN:VTIMEZONE
TZID:UTC
BEGIN:STANDARD
TZOFFSETFROM:+0000
TZOFFSETTO:+0000
TZNAME:UTC
DTSTART:20180101T000000
END:STANDARD
END:VTIMEZONE
BEGIN:VEVENT
DTSTART;TZID=UTC:20191201T093000
DTEND;TZID=UTC:20191201T123000
DTSTAMP:20260419T212145
CREATED:20191209T093658Z
LAST-MODIFIED:20191209T093658Z
UID:10018-1575192600-1575203400@ercst.org
SUMMARY:Informal Dialogue on Response Measures
DESCRIPTION:By invitation only | Madrid\nThis meeting is part of the “Response Measures of the Paris Agreement under the UNFCCC process” project\, following the informal forum held in adjacent to SB 50 in Bonn. It aims to create an informal atmosphere\, where the participants can explore\, discover\, explain and understand different points of view related to the issues in Article 4.15 of the Paris Agreement\, looking at the impacts of implementation of response measures taken by Parties and how these mitigation policies/actions could have “in- and out-of-jurisdiction” or cross-border impacts. ERCST presented its Chile Country Case Study on providing and testing a methodology which assesses and analyses the adverse\, and unintended impacts of existing and emerging\, climate mitigation measures and policies. The session ended with looking at the way forward for the COP 25 discussions. \n\nWorkshop Materials\nWorkshop Agenda\nPresentation on ERCST’s Chile Country Case Study\nReport on ERCST’s Chile Country Case Study\nMethodology Description on ERCST’s Chile Country Case Study
URL:https://ercst.org/event/informal-dialogue-on-response-measures-4/
END:VEVENT
END:VCALENDAR