BEGIN:VCALENDAR
VERSION:2.0
PRODID:-//ERCST - ECPv6.15.20//NONSGML v1.0//EN
CALSCALE:GREGORIAN
METHOD:PUBLISH
X-WR-CALNAME:ERCST
X-ORIGINAL-URL:https://ercst.org
X-WR-CALDESC:Events for ERCST
REFRESH-INTERVAL;VALUE=DURATION:PT1H
X-Robots-Tag:noindex
X-PUBLISHED-TTL:PT1H
BEGIN:VTIMEZONE
TZID:UTC
BEGIN:STANDARD
TZOFFSETFROM:+0000
TZOFFSETTO:+0000
TZNAME:UTC
DTSTART:20180101T000000
END:STANDARD
END:VTIMEZONE
BEGIN:VEVENT
DTSTART;TZID=UTC:20191130T093000
DTEND;TZID=UTC:20191130T173000
DTSTAMP:20260419T231515
CREATED:20191209T095257Z
LAST-MODIFIED:20191209T095257Z
UID:10017-1575106200-1575135000@ercst.org
SUMMARY:Informal Forum on Article 6 of the Paris Agreement
DESCRIPTION:By invitation only | Madrid\nThis meeting is part of the “Implementation of markets and non-markets provisions in the Paris Agreement” project. The meeting follows the informal forum also held in Santiago at the end of August. The aim is to create an informal atmosphere\, to explore\, discover\, explain and understand the different points of view related to the issues surrounding Article 6 of the Paris Agreement. Discussions focused on substantive issues surrounding Article 6\, reflecting the need to finalise the last remaining section of the Paris Agreement Rulebook. The session ended with looking at the way forward for COP 25 right after.\n  \nWorkshop Material(s)\nWorkshop Agenda\nPresentation by S. Tashi on Article 6_Metrics Conversion\nPresentation by S. Greiner on SOP and OMGE\nPresentation by K. Koakutsu on Accounting\nPresentation by K. Olsen on SDI\nPresentation by G. Baribeau on Safeguards\nPresentation by C. Sinha on WorldBank Climate Warehouse Infrastructure\nPresentation by A. Marcu on Art. 6 Post SB 50
URL:https://ercst.org/event/informal-forum-on-article-6-of-the-paris-agreement-2/
END:VEVENT
END:VCALENDAR