BEGIN:VCALENDAR
VERSION:2.0
PRODID:-//ERCST - ECPv6.15.20//NONSGML v1.0//EN
CALSCALE:GREGORIAN
METHOD:PUBLISH
X-WR-CALNAME:ERCST
X-ORIGINAL-URL:https://ercst.org
X-WR-CALDESC:Events for ERCST
REFRESH-INTERVAL;VALUE=DURATION:PT1H
X-Robots-Tag:noindex
X-PUBLISHED-TTL:PT1H
BEGIN:VTIMEZONE
TZID:UTC
BEGIN:STANDARD
TZOFFSETFROM:+0000
TZOFFSETTO:+0000
TZNAME:UTC
DTSTART:20180101T000000
END:STANDARD
END:VTIMEZONE
BEGIN:VEVENT
DTSTART;VALUE=DATE:20190826
DTEND;VALUE=DATE:20190828
DTSTAMP:20260420T045447
CREATED:20190709T080913Z
LAST-MODIFIED:20190709T080913Z
UID:9999-1566777600-1566950399@ercst.org
SUMMARY:Informal Forum on Article 6 of the Paris Agreement
DESCRIPTION:By invitation only | Santiago\nThis meeting is part of the “Implementation of markets and non-markets provisions in the Paris Agreement” project. The meeting follows the informal forum held in Bonn at the beginning of June\, held in adjacent to SB 50. The aim is to create an informal atmosphere\, to explore\, discover\, explain and understand the different points of view related to the issues surrounding Article 6 of the Paris Agreement. Discussions will focus on substantive issues surrounding Article 6. The session will end with looking at the way forward for the upcoming session in December at COP 25 in Santiago.\n  \nWorkshop Material(s)\nSantiago Agenda \nPresentations from day 1\nPresentation by A. Marcu on Post SBSTA 50 Reflections\nPresentation by A. Marcu on ITMOs\nPresentation by A. Marcu on NDCs and Metrics\nPresentation by S. Tashi on Conversions\nPresentation by J. Miguez on Art. 6.4\, ITMOs\nPresentation by Y. Mizuno on Reporting and Trajectory\nPresentation by K. Raeschke-Kessler on the flow of ITMOs\nPresentation by M. Peters-Stanley on Reporting and Accounting\nPresentation by C. Voigt on Art. 6.4 Appeal Procedure\nPresentations from day 2\nPresentation by S. Lim on KP Transition\nPresentation by K. Olsen and S. Braden on SD\nPresentation by MJ Mace on SOP and OMGE\nPresentation by C. Voigt on Art. 6.4 Appeals Procedure\nPresentation by M. Peters-Stanley on CDM Transition\n\n \n \n \n \n 
URL:https://ercst.org/event/informal-forum-on-article-6-of-the-paris-agreement/
END:VEVENT
END:VCALENDAR