BEGIN:VCALENDAR
VERSION:2.0
PRODID:-//ERCST - ECPv6.15.20//NONSGML v1.0//EN
CALSCALE:GREGORIAN
METHOD:PUBLISH
X-WR-CALNAME:ERCST
X-ORIGINAL-URL:https://ercst.org
X-WR-CALDESC:Events for ERCST
REFRESH-INTERVAL;VALUE=DURATION:PT1H
X-Robots-Tag:noindex
X-PUBLISHED-TTL:PT1H
BEGIN:VTIMEZONE
TZID:UTC
BEGIN:STANDARD
TZOFFSETFROM:+0000
TZOFFSETTO:+0000
TZNAME:UTC
DTSTART:20180101T000000
END:STANDARD
END:VTIMEZONE
BEGIN:VEVENT
DTSTART;TZID=UTC:20191008T130000
DTEND;TZID=UTC:20191008T163000
DTSTAMP:20260423T092454
CREATED:20190708T120313Z
LAST-MODIFIED:20190708T120313Z
UID:9996-1570539600-1570552200@ercst.org
SUMMARY:Funding Mechanisms in Phase 4 of the EU ETS
DESCRIPTION:The revision for the fourth phase of EU Emissions Trading System (2021-2030) introduced a number of important changes concerning funding mechanisms in the system. Existing mechanisms – the Solidarity Provision and Article 10c Derogation – were updated\, and new instruments – the Modernisation Fund and the Innovation Fund – have been introduced.\nThe delegated regulation for the innovation fund was adopted in February and eligible member states communicated their decision to (not) use Article 10c derogation by June 30 by publishing a competitive bidding process and a list of small projects. By September 30\, Member States also have to communicate their decision with regard to the use of the flexibility to move allowances between the various funds\, and the European Commission is expected to put forward its draft implementing act establishing the Modernisation Fund before the end of the year.\nThe European Roundtable on Climate Change and Sustainable Transition (ERCST)\, together with the Central European Energy Partners (CEEP)\, has been working this important topic for over a year. An event was organised last year in September in Brussels\, where a paper was presented discussing the questions and issues that will need to be clarified during the implementation phase.\nOver the course of 2019\, ERCST and CEEP have been working closely with Member States and stakeholders to deepen the understanding of the regional priorities for the use of the funding mechanisms. Four workshops were organised in Poland\, Bulgaria\, Romania and the Czech Republic; and surveys and interviews were carried out with Member States and stakeholders. \n\n\n\n\n\n\n\n\nDuring this meeting\, ERCST and CEEP will present some main takeaways from their work this year and the preliminary results of a stakeholder sentiment analysis. Next\, the European Commission will present the progress regarding the implementation of the funding mechanisms\, with a focus on the modernisation fund. This will be followed by a roundtable discussion by Member State and stakeholder representatives.\n\n\n\n\n\n\n\n\nWorkshop Material(s)\nAgenda\nPresentation ERCST & CEEP\nPresentation Roman Doubrava\nERCST & CEEP Report\n \nRelated Events\nLaunch Event – 2026 ETS ReviewApril 23 @ 10:00 - 12:00Launch Event – Carbon Leakage under CBAM and Free AllocationMay 13 @ 10:30 - 12:302026 State of ETS – LaunchMay 20 @ 15:00 - 16:30International Townhall: CBAM in an International ContextJune 23 @ 14:30 - 16:30\nStakeholder Consultation: CBAM in an International ContextApril 22 @ 15:00 - 17:002026 Review of EU ETS – Stakeholder meetingApril 1 @ 15:00 - 17:00Launch Event – Policy options for sustainable mobility: the road to decarbonizationApril 1 @ 10:00 - 12:00
URL:https://ercst.org/event/funding-mechanisms-in-phase-4-of-the-eu-ets/
END:VEVENT
END:VCALENDAR