BEGIN:VCALENDAR
VERSION:2.0
PRODID:-//ERCST - ECPv6.15.20//NONSGML v1.0//EN
CALSCALE:GREGORIAN
METHOD:PUBLISH
X-WR-CALNAME:ERCST
X-ORIGINAL-URL:https://ercst.org
X-WR-CALDESC:Events for ERCST
REFRESH-INTERVAL;VALUE=DURATION:PT1H
X-Robots-Tag:noindex
X-PUBLISHED-TTL:PT1H
BEGIN:VTIMEZONE
TZID:Europe/Paris
BEGIN:DAYLIGHT
TZOFFSETFROM:+0100
TZOFFSETTO:+0200
TZNAME:CEST
DTSTART:20190331T010000
END:DAYLIGHT
BEGIN:STANDARD
TZOFFSETFROM:+0200
TZOFFSETTO:+0100
TZNAME:CET
DTSTART:20191027T010000
END:STANDARD
BEGIN:DAYLIGHT
TZOFFSETFROM:+0100
TZOFFSETTO:+0200
TZNAME:CEST
DTSTART:20200329T010000
END:DAYLIGHT
BEGIN:STANDARD
TZOFFSETFROM:+0200
TZOFFSETTO:+0100
TZNAME:CET
DTSTART:20201025T010000
END:STANDARD
BEGIN:DAYLIGHT
TZOFFSETFROM:+0100
TZOFFSETTO:+0200
TZNAME:CEST
DTSTART:20210328T010000
END:DAYLIGHT
BEGIN:STANDARD
TZOFFSETFROM:+0200
TZOFFSETTO:+0100
TZNAME:CET
DTSTART:20211031T010000
END:STANDARD
END:VTIMEZONE
BEGIN:VEVENT
DTSTART;TZID=Europe/Paris:20200311T100000
DTEND;TZID=Europe/Paris:20200311T123000
DTSTAMP:20260421T171702
CREATED:20200127T134106Z
LAST-MODIFIED:20200127T134106Z
UID:10025-1583920800-1583929800@ercst.org
SUMMARY:The European Green Deal: state of play
DESCRIPTION:President Ursula von der Leyen’s European Commission released the communication on the ‘European Green Deal’ on December 11th 2020. It is presented as an outline of the new Commission’s commitment to tackling climate and environmental-related challenges. It is presented as a new growth strategy aimed at transforming the EU’s economy and lists a measures and legislative initiatives aimed at achieving net-zero emissions by 2050. \nIndeed\, the European Green Deal can be seen as a collection of priorities\, principles and areas where legislative proposals will be produced in the coming years. At this stage\, it is very broad and all-encompassing\, and still lacking much detail.\nFollowing the initial brainstorm meeting organised by ERCST in January\, this meeting will be an opportunity for participants to take stock of these recent policy developments announced under the European Green Deal\, including the investment plan (EGDIP)\, the Just Transition Mechanism and the proposal for a climate law ensuring the carbon neutrality objective. This will be followed by a discussion on what can be expected in the coming months and how the transition will be financed.\n  \nThis meeting is by invitation only – please contact Dariusz at ddybka@ercst.org if you wish to participate \n \nWorkshop Material(s)\nDraft agenda\nPresentation EIB ERCST_Just Transition \nPresentation CEEP Green Deal\nPresentation ERCST Beyond NDC\n\nUpcoming Events\nStakeholder Consultation: CBAM in an International ContextApril 22 @ 15:00 - 17:00Launch Event – 2026 ETS ReviewApril 23 @ 10:00 - 12:00Launch Event – Carbon Leakage under CBAM and Free AllocationMay 13 @ 10:30 - 12:302026 State of ETS – LaunchMay 20 @ 15:00 - 16:30International Townhall: CBAM in an International ContextJune 23 @ 14:30 - 16:30\n\n \nPast Events\n2026 Review of EU ETS – Stakeholder meetingApril 1 @ 15:00 - 17:00Launch Event – Policy options for sustainable mobility: the road to decarbonizationApril 1 @ 10:00 - 12:00Quo Vadis ETS: Challenges and SolutionsMarch 23 @ 16:00 - 18:00
URL:https://ercst.org/event/the-european-green-deal-state-of-play/
CATEGORIES:Event organised by ERCST
END:VEVENT
BEGIN:VEVENT
DTSTART;TZID=Europe/Paris:20200325T140000
DTEND;TZID=Europe/Paris:20200325T150000
DTSTAMP:20260421T171702
CREATED:20200331T104436Z
LAST-MODIFIED:20200331T104436Z
UID:10032-1585144800-1585148400@ercst.org
SUMMARY:Border Carbon Adjustments in the EU project call – feedback to the Commission’s roadmap
DESCRIPTION:The project video call was an opportunity for ERCST to share its draft feedback on the European Commission’s inception impact assessment for the proposed carbon border adjustment mechanism\, and gather perspectives and notes from the project funders as well as other experts active in this topic. In addition\, ERCST continued the discussion from the March 5th meeting regarding the building blocks and criteria for a BCA\, including the discussion of a number of scenarios that were assembled by the project team. Please find ERCST’s feedback submission in the workshop materials below.\n \nWorkshop Material(s)\nFeedback on CBAM Inception Impact Assessment\n \nUpcoming Events\nStakeholder Consultation: CBAM in an International ContextApril 22 @ 15:00 - 17:00Launch Event – 2026 ETS ReviewApril 23 @ 10:00 - 12:00Launch Event – Carbon Leakage under CBAM and Free AllocationMay 13 @ 10:30 - 12:302026 State of ETS – LaunchMay 20 @ 15:00 - 16:30International Townhall: CBAM in an International ContextJune 23 @ 14:30 - 16:30\n\n \nPast Events\n2026 Review of EU ETS – Stakeholder meetingApril 1 @ 15:00 - 17:00Launch Event – Policy options for sustainable mobility: the road to decarbonizationApril 1 @ 10:00 - 12:00Quo Vadis ETS: Challenges and SolutionsMarch 23 @ 16:00 - 18:00
URL:https://ercst.org/event/border-carbon-adjustments-in-the-eu-project-call/
END:VEVENT
BEGIN:VEVENT
DTSTART;TZID=Europe/Paris:20200325T153000
DTEND;TZID=Europe/Paris:20200325T173000
DTSTAMP:20260421T171702
CREATED:20200220T122012Z
LAST-MODIFIED:20200220T122012Z
UID:10028-1585150200-1585157400@ercst.org
SUMMARY:The Politics of Border Carbon Adjustments in the European Green Deal - Dream or Reality?
DESCRIPTION:The European Green Deal Package was presented on December 11\, 2019. It contains a large number of components\, some of which are already being discussed\, such as the Just Transition Mechanism or the Sustainable Europe Investment Plan\, as well as a commitment to introducing a border carbon adjustment mechanism (BCAM) in the EU.\nAs the EU considers its most ambitious decarbonisation targets yet under the European Green Deal\, many consider a border carbon adjustment essential to sustain Europe’s continued leadership in a world of asymmetrical climate efforts. Technical and administrative details need to be resolved for such a policy to become reality\, and that will be complex. But the greatest challenges will likely be political in nature. Which stakeholders will support or opposed a border adjustment for climate\, and\, in particular\, how are Europe’s foreign trade partners going to react?\nThe webinar will take the form of a high-level dialogue\, aimed to start an informal conversation on one of the most controversial elements of the EU’s policy agenda in coming years\, BCAs. This webinar features a panel conversation with leading thinkers on the issues\, and offers an opportunity for interaction with policy makers and stakeholders.\n  \nPlease note that\, due to current circumstances\, the meeting will take place via online video conference. Registration link to the Webinar. \n \nWorkshop Material(s)\nAgenda\nPresentation by J. Cooper\nPresentation by G. Pons\n \nUpcoming Events\nStakeholder Consultation: CBAM in an International ContextApril 22 @ 15:00 - 17:00Launch Event – 2026 ETS ReviewApril 23 @ 10:00 - 12:00Launch Event – Carbon Leakage under CBAM and Free AllocationMay 13 @ 10:30 - 12:302026 State of ETS – LaunchMay 20 @ 15:00 - 16:30International Townhall: CBAM in an International ContextJune 23 @ 14:30 - 16:30\n\n \nPast Events\n2026 Review of EU ETS – Stakeholder meetingApril 1 @ 15:00 - 17:00Launch Event – Policy options for sustainable mobility: the road to decarbonizationApril 1 @ 10:00 - 12:00Quo Vadis ETS: Challenges and SolutionsMarch 23 @ 16:00 - 18:00
URL:https://ercst.org/event/the-politics-of-border-carbon-adjustments-in-the-european-green-deal-dream-of-reality/
END:VEVENT
END:VCALENDAR