BEGIN:VCALENDAR
VERSION:2.0
PRODID:-//ERCST - ECPv6.15.20//NONSGML v1.0//EN
CALSCALE:GREGORIAN
METHOD:PUBLISH
X-ORIGINAL-URL:https://ercst.org
X-WR-CALDESC:Events for ERCST
REFRESH-INTERVAL;VALUE=DURATION:PT1H
X-Robots-Tag:noindex
X-PUBLISHED-TTL:PT1H
BEGIN:VTIMEZONE
TZID:UTC
BEGIN:STANDARD
TZOFFSETFROM:+0000
TZOFFSETTO:+0000
TZNAME:UTC
DTSTART:20190101T000000
END:STANDARD
END:VTIMEZONE
BEGIN:VEVENT
DTSTART;TZID=UTC:20200108T140000
DTEND;TZID=UTC:20200108T170000
DTSTAMP:20260421T205418
CREATED:20191128T104720Z
LAST-MODIFIED:20191128T104720Z
UID:10016-1578492000-1578502800@ercst.org
SUMMARY:The European Green Deal - ERCST work and the role of the EU ETS
DESCRIPTION:The incoming European Commission President Ursula von der Leyen announced her intention to present an ambitious ‘European Green Deal’\, which is expected to be a comprehensive policy package aimed at steering the EU towards becoming the world’s first climate-neutral continent. While the exact content and impact of such a Green Deal remains unclear\, it is certain to have strong implications for Europe’s economy and society.\nAs the new European Commission is expected to communicate the ‘European Green Deal’ on December 11th\, this initial meeting is an opportunity for stakeholders to have a discussion on its content\, brainstorm on its impact on the EU ETS and help structure the roundtables work on the Green Deal.\nThis meeting has two objectives: \n\nFirstly\, ERCST would like to identify in which areas of the European Green Deal work done by the Roundtable could be an added-value to the policy debate in Europe. Through an interactive discussion with our stakeholders\, we want to discover which aspects and angles to the Green Deal could be interesting for ERCST’s to work on in the the coming years.\nSecondly\, through a brainstorm session\, ERCST wants to identify stakeholders’ views on the impacts of the elements included in the European Green Deal on the EU ETS\, and their views on the role of the ETS going forward in this ‘new world’.\n\n  \nThis meeting is by invitation only.\nIf you are interested in participating\, please contact Domien at dvangenechten@ercst.org. \n \nWorkshop Material(s)\nagenda\n \nUpcoming Events\nStakeholder Consultation: CBAM in an International ContextApril 22 @ 15:00 - 17:00Launch Event – 2026 ETS ReviewApril 23 @ 10:00 - 12:00Launch Event – Carbon Leakage under CBAM and Free AllocationMay 13 @ 10:30 - 12:302026 State of ETS – LaunchMay 20 @ 15:00 - 16:30International Townhall: CBAM in an International ContextJune 23 @ 14:30 - 16:30\n\n \nPast Events\n2026 Review of EU ETS – Stakeholder meetingApril 1 @ 15:00 - 17:00Launch Event – Policy options for sustainable mobility: the road to decarbonizationApril 1 @ 10:00 - 12:00Quo Vadis ETS: Challenges and SolutionsMarch 23 @ 16:00 - 18:00
URL:https://ercst.org/event/brainstorm-on-the-impact-of-the-european-green-deal-on-the-eu-ets-2/
END:VEVENT
END:VCALENDAR