BEGIN:VCALENDAR
VERSION:2.0
PRODID:-//ERCST - ECPv6.15.20//NONSGML v1.0//EN
CALSCALE:GREGORIAN
METHOD:PUBLISH
X-WR-CALNAME:ERCST
X-ORIGINAL-URL:https://ercst.org
X-WR-CALDESC:Events for ERCST
REFRESH-INTERVAL;VALUE=DURATION:PT1H
X-Robots-Tag:noindex
X-PUBLISHED-TTL:PT1H
BEGIN:VTIMEZONE
TZID:UTC
BEGIN:STANDARD
TZOFFSETFROM:+0000
TZOFFSETTO:+0000
TZNAME:UTC
DTSTART:20190101T000000
END:STANDARD
END:VTIMEZONE
BEGIN:VEVENT
DTSTART;TZID=UTC:20200127T100000
DTEND;TZID=UTC:20200127T123000
DTSTAMP:20260423T005733
CREATED:20191219T094435Z
LAST-MODIFIED:20191219T094435Z
UID:10020-1580119200-1580128200@ercst.org
SUMMARY:Beyond the EU NDC & Impact on the EU ETS - outreach meeting in Paris
DESCRIPTION:In the context of the Paris Agreement\, the European Union is increasing its efforts towards decarbonisation. Currently\, the EU climate strategy is centred around three emissions reduction targets compared to 1990 levels: a cut of 20% of GHG emissions by 2020\, at least 40% by 2030; and an implicit reduction of 80-95% by 2050. These targets have increasingly been put into question\, as many stakeholders are pushing the EU to speed up its decarbonisation efforts and embrace the goal of climate neutrality by 2050.\nIn November 2019\, ERCST presented its draft Report of the project ‘Beyond the EU NDC’. This project aims to assess whether Member States and other stakeholders are undertaking efforts to go ‘beyond’ their respective 2030 targets\, and what their perspective is on the 2050 strategy and the potential target of carbon neutrality.\nThis is one of the outreach meetings of the ‘Beyond the EU NDC’ report\, which will be discussed in 6 European capitals to gather further feedback from key stakeholders in Member States. During this meeting\, the authors will present the Report and their findings through a presentation\, after which the Report will be discussed in a roundtable setting with stakeholders. The final report – which will include feedback from the roundtables across the EU – will be published in February 2020.\nWe would like to thank the Government of France for supporting the workshop. \n  \n[rtec-registration-form] \n \nWorkshop Material(s)\nAgenda\nERCST presentation\nPresentation by M. Matheu\, EdF\nPresentation by C. Tutenuit\, EPE\nPresentation by R. Trotignon\, CEC and S. Quemin\, LSE\n \nUpcoming Events\nLaunch Event – 2026 ETS ReviewApril 23 @ 10:00 - 12:00Launch Event – Carbon Leakage under CBAM and Free AllocationMay 13 @ 10:30 - 12:302026 State of ETS – LaunchMay 20 @ 15:00 - 16:30International Townhall: CBAM in an International ContextJune 23 @ 14:30 - 16:30\n\n \nPast Events\nStakeholder Consultation: CBAM in an International ContextApril 22 @ 15:00 - 17:002026 Review of EU ETS – Stakeholder meetingApril 1 @ 15:00 - 17:00Launch Event – Policy options for sustainable mobility: the road to decarbonizationApril 1 @ 10:00 - 12:00
URL:https://ercst.org/event/beyond-40-project-outreach-meeting-in-paris/
END:VEVENT
BEGIN:VEVENT
DTSTART;TZID=UTC:20200131T093000
DTEND;TZID=UTC:20200131T120000
DTSTAMP:20260423T005734
CREATED:20191219T094907Z
LAST-MODIFIED:20191219T094907Z
UID:10021-1580463000-1580472000@ercst.org
SUMMARY:Beyond the EU NDC & Impact on the EU ETS - outreach meeting in Berlin
DESCRIPTION:In the context of the Paris Agreement\, the European Union is increasing its efforts towards decarbonisation. Currently\, the EU climate strategy is centred around three emissions reduction targets compared to 1990 levels: a cut of 20% of GHG emissions by 2020\, at least 40% by 2030; and an implicit reduction of 80-95% by 2050. These targets have increasingly been put into question\, as many stakeholders are pushing the EU to speed up its decarbonisation efforts and embrace the goal of climate neutrality by 2050.\nIn November 2019\, ERCST presented its draft Report of the project ‘Beyond the EU NDC’. This project aims to assess whether Member States and other stakeholders are undertaking efforts to go ‘beyond’ their respective 2030 targets\, and what their perspective is on the 2050 strategy and the potential target of carbon neutrality.\nThis is one of the outreach meetings of the ‘Beyond the EU NDC’ report\, which will be discussed in 6 European capitals to gather further feedback from key stakeholders in Member States. During this meeting\, the authors will present the Report and their findings through a presentation\, after which the Report will be discussed in a roundtable setting with stakeholders. The final report – which will include feedback from the roundtables across the EU – will be published in February 2020.\nWe would like to thank BMU for hosting the workshop. \n  \n[rtec-registration-form] \n \nWorkshop Material(s)\nAgenda\nERCST presentation\n \nUpcoming Events\nLaunch Event – 2026 ETS ReviewApril 23 @ 10:00 - 12:00Launch Event – Carbon Leakage under CBAM and Free AllocationMay 13 @ 10:30 - 12:302026 State of ETS – LaunchMay 20 @ 15:00 - 16:30International Townhall: CBAM in an International ContextJune 23 @ 14:30 - 16:30\n\n \nPast Events\nStakeholder Consultation: CBAM in an International ContextApril 22 @ 15:00 - 17:002026 Review of EU ETS – Stakeholder meetingApril 1 @ 15:00 - 17:00Launch Event – Policy options for sustainable mobility: the road to decarbonizationApril 1 @ 10:00 - 12:00
URL:https://ercst.org/event/beyond-40-project-outreach-meeting-in-berlin/
END:VEVENT
END:VCALENDAR