BEGIN:VCALENDAR
VERSION:2.0
PRODID:-//ERCST - ECPv6.15.20//NONSGML v1.0//EN
CALSCALE:GREGORIAN
METHOD:PUBLISH
X-WR-CALNAME:ERCST
X-ORIGINAL-URL:https://ercst.org
X-WR-CALDESC:Events for ERCST
REFRESH-INTERVAL;VALUE=DURATION:PT1H
X-Robots-Tag:noindex
X-PUBLISHED-TTL:PT1H
BEGIN:VTIMEZONE
TZID:Europe/Paris
BEGIN:DAYLIGHT
TZOFFSETFROM:+0100
TZOFFSETTO:+0200
TZNAME:CEST
DTSTART:20250330T010000
END:DAYLIGHT
BEGIN:STANDARD
TZOFFSETFROM:+0200
TZOFFSETTO:+0100
TZNAME:CET
DTSTART:20251026T010000
END:STANDARD
BEGIN:DAYLIGHT
TZOFFSETFROM:+0100
TZOFFSETTO:+0200
TZNAME:CEST
DTSTART:20260329T010000
END:DAYLIGHT
BEGIN:STANDARD
TZOFFSETFROM:+0200
TZOFFSETTO:+0100
TZNAME:CET
DTSTART:20261025T010000
END:STANDARD
BEGIN:DAYLIGHT
TZOFFSETFROM:+0100
TZOFFSETTO:+0200
TZNAME:CEST
DTSTART:20270328T010000
END:DAYLIGHT
BEGIN:STANDARD
TZOFFSETFROM:+0200
TZOFFSETTO:+0100
TZNAME:CET
DTSTART:20271031T010000
END:STANDARD
END:VTIMEZONE
BEGIN:VEVENT
DTSTART;TZID=Europe/Paris:20260423T100000
DTEND;TZID=Europe/Paris:20260423T120000
DTSTAMP:20260423T080336
CREATED:20260319T120417Z
LAST-MODIFIED:20260401T124210Z
UID:20642-1776938400-1776945600@ercst.org
SUMMARY:Launch Event - 2026 ETS Review
DESCRIPTION:[vc_row][vc_column][vc_column_text css=”” css_params=””]Register in person  \nRegister online \nThis is the Launch Event for the work that ERCST is doing on the Review of the EU ETS. During this event\, we will launch “Review of the EU ETS: Challenges and Policy Levers to address them”. The session will highlight key issues to be discussed in the upcoming Review of the EU ETS\, and the levers in the EU ETS that can be used to address them. \nThe report issued in this launch is intended to provide a logic and a story for the discussion that should\, in our view\, take place under the upcoming Review of the EU ETS. It is not intended to go into technical analysis and search for solutions to individual issues\, but try and provide ideas on how the agenda for the review should be set. \nAgenda[/vc_column_text][/vc_column][/vc_row]
URL:https://ercst.org/event/launch-event-2026-ets-review/
LOCATION:conseil central de l’economie\, Avenue d’auderghem 20\, 1000 Brussels
CATEGORIES:EU ETS
END:VEVENT
END:VCALENDAR