BEGIN:VCALENDAR
VERSION:2.0
PRODID:-//ERCST - ECPv6.15.20//NONSGML v1.0//EN
CALSCALE:GREGORIAN
METHOD:PUBLISH
X-ORIGINAL-URL:https://ercst.org
X-WR-CALDESC:Events for ERCST
REFRESH-INTERVAL;VALUE=DURATION:PT1H
X-Robots-Tag:noindex
X-PUBLISHED-TTL:PT1H
BEGIN:VTIMEZONE
TZID:Europe/Paris
BEGIN:DAYLIGHT
TZOFFSETFROM:+0100
TZOFFSETTO:+0200
TZNAME:CEST
DTSTART:20200329T010000
END:DAYLIGHT
BEGIN:STANDARD
TZOFFSETFROM:+0200
TZOFFSETTO:+0100
TZNAME:CET
DTSTART:20201025T010000
END:STANDARD
BEGIN:DAYLIGHT
TZOFFSETFROM:+0100
TZOFFSETTO:+0200
TZNAME:CEST
DTSTART:20210328T010000
END:DAYLIGHT
BEGIN:STANDARD
TZOFFSETFROM:+0200
TZOFFSETTO:+0100
TZNAME:CET
DTSTART:20211031T010000
END:STANDARD
BEGIN:DAYLIGHT
TZOFFSETFROM:+0100
TZOFFSETTO:+0200
TZNAME:CEST
DTSTART:20220327T010000
END:DAYLIGHT
BEGIN:STANDARD
TZOFFSETFROM:+0200
TZOFFSETTO:+0100
TZNAME:CET
DTSTART:20221030T010000
END:STANDARD
END:VTIMEZONE
BEGIN:VTIMEZONE
TZID:UTC
BEGIN:STANDARD
TZOFFSETFROM:+0000
TZOFFSETTO:+0000
TZNAME:UTC
DTSTART:20200101T000000
END:STANDARD
END:VTIMEZONE
BEGIN:VEVENT
DTSTART;TZID=Europe/Paris:20211006T100000
DTEND;TZID=Europe/Paris:20211006T150000
DTSTAMP:20260425T042759
CREATED:20210701T085549Z
LAST-MODIFIED:20211008T070950Z
UID:10130-1633514400-1633532400@ercst.org
SUMMARY:EU-Turkey Climate Policy Dialogue: Deep dive on CBAM\, ETS and the Just Transition Mechanism
DESCRIPTION:This workshop is part of the project EU – Turkey Climate Policy Dialogue for civil societies. The overall objective of the project is to establish a sustained dialogue between Turkish and EU CSOs\, private actors and public institutions on the articulation of Climate Change policy between the EU and Turkey and climate policy development in general. \nDuring this workshop the project team will give an overview of the project\, as well as the objectives and activities that will be undertaken as part of the project. The project team will then present the first results of the research\, highlighting the recent climate policy developments that have taken place in the EU. It will be an opportunity for local Turkish CSOs and stakeholders to highlight additional elements they would like to see as part of this project\, and what kind of format and topics they would like to touch upon in the next workshops. \nThe EU – Turkey Climate Policy Dialogue project is part of the sixth phase of the Civil Society Dialogue Programme (CSD-VI) which is funded by the European Union and coordinated by the Turkish Directorate for EU Affairs. \n  \nThis event is by invitation only\, if you are interested please email mmonciatti@ercst.org \nThis event will take place in hybrid format\, both online and in-person. \n  \nWorkshop Material(s) \nAgenda \nERCST’s Just Transition Presentation \nERCST’s Presentation EU CBAM and implications for Turkey \nTurkish Ministry of Trade Presentation Green Deal Action Plan \nEBRD’s Presentation \nEvent Recording \n  \n 
URL:https://ercst.org/event/eu-turkey-climate-policy-dialogue-deep-dive-on-cbam-ets-and-the-just-transition-mechanism/
CATEGORIES:CIVIL SOCIETY DIALOGUE
END:VEVENT
BEGIN:VEVENT
DTSTART;TZID=Europe/Paris:20211013T100000
DTEND;TZID=Europe/Paris:20211013T120000
DTSTAMP:20260425T042759
CREATED:20210701T092133Z
LAST-MODIFIED:20211019T115805Z
UID:10131-1634119200-1634126400@ercst.org
SUMMARY:Carbon Contracts for Difference (CCfD)
DESCRIPTION:Register Here\nThis new work stream aims to bring together stakeholders\, including policymakers and industry on a regular basis to discuss substantive issues around this topic\, informed by original intellectual input from ERCST.\nCCfD are being discussed as one of the most promising options to foster the deployment of low-carbon industrial technologies. CCfD are one way to minimize the revenue uncertainty attached to investments in low-carbon technologies\, such as renewable and low-carbon hydrogen\, which are still not cost competitive with other more polluting production pathways. \nThis meeting will look in further detail to CCfD as an instrument to enhance the decarbonization of some parts of the EU industry.\n \n \n \nWorkshop Materials\n20210920 Agenda v7\n20211013 – EUROFER – ERCTS – CCFD copy\nCommercialisation Contracts (McWilliams\, ERCST)v2 – Read-Only\nCCfD – AL ERCST 13.10.2021 copy\n20211013ERCST_Presentation_Meeting v5\n 
URL:https://ercst.org/event/hydrogen-and-carbon-contracts-for-difference-ccfd/
CATEGORIES:HYDROGEN
END:VEVENT
BEGIN:VEVENT
DTSTART;TZID=UTC:20211018T140000
DTEND;TZID=UTC:20211018T160000
DTSTAMP:20260425T042759
CREATED:20210917T130910Z
LAST-MODIFIED:20211019T071752Z
UID:10350-1634565600-1634572800@ercst.org
SUMMARY:Cooperation on Border Carbon Adjustments
DESCRIPTION:The European Commission has put forward a proposal for a Carbon Border Adjustment Mechanism (CBAM) – an enabler of ambitious climate policy in a world of unequal ambition. As other countries respond to the climate crisis\, we can expect to see them follow suit. Indeed\, the UK has pledged to put a CBAM in place\, the US has seen a slew of legislative proposals (including the most recent which does not demand a carbon price)\, and Canada has just announced formal consultations on a border carbon adjustment (BCA). \nIdeally there would be international coordination of these emerging policies; they have high-stakes implications for international trade\, international equity\, climate diplomacy. Some have suggested that BCAs could be an essential element of “climate clubs”\, acting both as a common tariff-like wall\, and as incentive to join. Others have called for international agreement on principles and best practice. \nThis session\, convened by ERCST on the basis of its extensive work on the EU CBAM\, will bring together global thought leaders that have explored this critical aspect of CBAM/BCA\, unpacking the proposals and considering the options. \nERCST’s project on border carbon adjustment is supported by BDI\, CEFIC\, EBRD\, Enel\, Eurofer\, Eurometaux\, Fertilizers Europe\, FuelsEurope\, HeidelbergCement\, the Government of France\, the Government of Germany\, the Government of Spain\, Metinvest\, Solvay and SITRA.  \n\n\nWorkshop Material(s)\n \nDraft-Agenda \nSurvey slides
URL:https://ercst.org/event/cooperation-on-border-carbon-adjustments/
LOCATION:online
CATEGORIES:CBAM
END:VEVENT
BEGIN:VEVENT
DTSTART;TZID=UTC:20211019T093000
DTEND;TZID=UTC:20211019T120000
DTSTAMP:20260425T042759
CREATED:20211007T081001Z
LAST-MODIFIED:20240521T151648Z
UID:10542-1634635800-1634644800@ercst.org
SUMMARY:ELECTRICITY PRICES IN THE EU - The balance between regulation and markets
DESCRIPTION:Register Here\nThis event\, which is the first one of a series addressing this topic\, will identify: \n\nThe issues & reasons behind the increase in electricity prices\,\nPossible solutions to the current situation and best practices to reinject carbon dividends into the market to protect vulnerable households while still incentivizing the rapid deployment of renewables in the power sector\, \n\nWorkshop materials: \nAgenda  \nICIS Presentation
URL:https://ercst.org/event/10542/
LOCATION:online
CATEGORIES:Electricity,EU ETS,EUROPEAN GREEN DEAL,JUST TRANSITION
END:VEVENT
END:VCALENDAR